Package: sccomp Version: 2.2.0 Command: /Library/Frameworks/R.framework/Resources/bin/R CMD build --keep-empty-dirs --no-resave-data sccomp StartedAt: 2025-11-03 18:37:39 -0500 (Mon, 03 Nov 2025) EndedAt: 2025-11-03 18:38:45 -0500 (Mon, 03 Nov 2025) EllapsedTime: 66.1 seconds RetCode: 0 Status: OK PackageFile: sccomp_2.2.0.tar.gz PackageFileSize: 2.691 MiB