Package: sccomp Version: 2.1.18 Command: /Library/Frameworks/R.framework/Resources/bin/R CMD INSTALL sccomp StartedAt: 2025-10-24 15:15:01 -0400 (Fri, 24 Oct 2025) EndedAt: 2025-10-24 15:15:14 -0400 (Fri, 24 Oct 2025) EllapsedTime: 13.5 seconds RetCode: 0 Status: OK