Package: sccomp Version: 2.1.18 Command: /Library/Frameworks/R.framework/Resources/bin/R CMD build --keep-empty-dirs --no-resave-data sccomp StartedAt: 2025-10-24 17:37:46 -0400 (Fri, 24 Oct 2025) EndedAt: 2025-10-24 17:38:13 -0400 (Fri, 24 Oct 2025) EllapsedTime: 27.3 seconds RetCode: 0 Status: OK PackageFile: sccomp_2.1.18.tar.gz PackageFileSize: 2.692 MiB