Package: sccomp Version: 2.1.18 Command: rm -rf sccomp.buildbin-libdir && mkdir sccomp.buildbin-libdir && /Users/biocbuild/BBS/utils/build-universal.sh sccomp_2.1.18.tar.gz /Library/Frameworks/R.framework/Resources/bin/R sccomp.buildbin-libdir StartedAt: 2025-10-24 23:18:23 -0400 (Fri, 24 Oct 2025) EndedAt: 2025-10-24 23:18:39 -0400 (Fri, 24 Oct 2025) EllapsedTime: 15.3 seconds RetCode: 0 Status: OK PackageFile: sccomp_2.1.18.tgz PackageFileSize: 5.369 MiB