Package: scatterHatch Version: 1.16.0 Maintainer: Atul Deshpande MaintainerEmail: adeshpande at jhu.edu git_url: https://git.bioconductor.org/packages/scatterHatch git_branch: RELEASE_3_22 git_last_commit: b0c4185 git_last_commit_date: 2025-10-29 11:13:27 -0400 (Wed, 29 Oct 2025)