Package: scater Version: 1.37.0 Command: /home/biocbuild/bbs-3.22-bioc/R/bin/R CMD INSTALL scater StartedAt: 2025-10-24 16:04:16 -0400 (Fri, 24 Oct 2025) EndedAt: 2025-10-24 16:04:45 -0400 (Fri, 24 Oct 2025) EllapsedTime: 29.8 seconds RetCode: 0 Status: OK