Package: scanMiRApp Version: 1.15.1 Command: /home/biocbuild/bbs-3.22-bioc/R/bin/R CMD check --install=check:scanMiRApp.install-out.txt --library=/home/biocbuild/bbs-3.22-bioc/R/site-library --timings scanMiRApp_1.15.1.tar.gz StartedAt: 2025-10-25 03:42:14 -0400 (Sat, 25 Oct 2025) EndedAt: 2025-10-25 03:49:13 -0400 (Sat, 25 Oct 2025) EllapsedTime: 419.8 seconds RetCode: 0 Status: OK CheckDir: scanMiRApp.Rcheck Warnings: 0