Package: scanMiRApp Version: 1.15.1 Command: /Library/Frameworks/R.framework/Resources/bin/R CMD build --keep-empty-dirs --no-resave-data scanMiRApp StartedAt: 2025-10-24 18:36:15 -0400 (Fri, 24 Oct 2025) EndedAt: 2025-10-24 18:37:55 -0400 (Fri, 24 Oct 2025) EllapsedTime: 100.3 seconds RetCode: 0 Status: OK PackageFile: scanMiRApp_1.15.1.tar.gz PackageFileSize: 904.6 KiB