Package: scanMiRApp Version: 1.15.1 Command: /Library/Frameworks/R.framework/Resources/bin/R CMD INSTALL scanMiRApp StartedAt: 2025-10-26 15:28:22 -0400 (Sun, 26 Oct 2025) EndedAt: 2025-10-26 15:28:41 -0400 (Sun, 26 Oct 2025) EllapsedTime: 19.3 seconds RetCode: 0 Status: OK