Package: scanMiRApp Version: 1.15.1 Maintainer: Pierre-Luc Germain MaintainerEmail: pierre-luc.germain at hest.ethz.ch git_url: https://git.bioconductor.org/packages/scanMiRApp git_branch: devel git_last_commit: 8b674a7 git_last_commit_date: 2025-09-23 13:52:10 -0400 (Tue, 23 Sep 2025)