Package: scanMiR Version: 1.15.1 Command: /home/biocbuild/bbs-3.22-bioc/R/bin/R CMD INSTALL scanMiR StartedAt: 2025-10-24 16:02:06 -0400 (Fri, 24 Oct 2025) EndedAt: 2025-10-24 16:02:23 -0400 (Fri, 24 Oct 2025) EllapsedTime: 16.4 seconds RetCode: 0 Status: OK