Package: scanMiR Version: 1.16.0 Command: /Library/Frameworks/R.framework/Resources/bin/R CMD INSTALL scanMiR StartedAt: 2025-11-03 15:49:53 -0500 (Mon, 03 Nov 2025) EndedAt: 2025-11-03 15:50:16 -0500 (Mon, 03 Nov 2025) EllapsedTime: 23.2 seconds RetCode: 0 Status: OK