Package: scanMiR Version: 1.15.1 Command: /Library/Frameworks/R.framework/Resources/bin/R CMD INSTALL scanMiR StartedAt: 2025-10-24 15:30:48 -0400 (Fri, 24 Oct 2025) EndedAt: 2025-10-24 15:30:54 -0400 (Fri, 24 Oct 2025) EllapsedTime: 6.4 seconds RetCode: 0 Status: OK