Package: scanMiR Version: 1.15.1 Command: /Library/Frameworks/R.framework/Resources/bin/R CMD build --keep-empty-dirs --no-resave-data scanMiR StartedAt: 2025-10-24 17:36:49 -0400 (Fri, 24 Oct 2025) EndedAt: 2025-10-24 17:37:03 -0400 (Fri, 24 Oct 2025) EllapsedTime: 14.2 seconds RetCode: 0 Status: OK PackageFile: scanMiR_1.15.1.tar.gz PackageFileSize: 1.059 MiB