Package: scTreeViz Version: 1.15.0 Command: /home/biocbuild/R/R/bin/R CMD INSTALL scTreeViz StartedAt: 2025-10-23 21:20:18 -0000 (Thu, 23 Oct 2025) EndedAt: 2025-10-23 21:21:46 -0000 (Thu, 23 Oct 2025) EllapsedTime: 88.4 seconds RetCode: 0 Status: OK