Package: scTreeViz Version: 1.15.0 Command: /home/biocbuild/R/R/bin/R CMD build --keep-empty-dirs --no-resave-data scTreeViz StartedAt: 2025-10-21 03:02:55 -0000 (Tue, 21 Oct 2025) EndedAt: 2025-10-21 03:06:17 -0000 (Tue, 21 Oct 2025) EllapsedTime: 201.1 seconds RetCode: 0 Status: OK PackageFile: scTreeViz_1.15.0.tar.gz PackageFileSize: 2.314 MiB