Package: scTreeViz Version: 1.15.0 Command: /Library/Frameworks/R.framework/Resources/bin/R CMD INSTALL scTreeViz StartedAt: 2025-10-24 15:53:52 -0400 (Fri, 24 Oct 2025) EndedAt: 2025-10-24 15:55:25 -0400 (Fri, 24 Oct 2025) EllapsedTime: 92.8 seconds RetCode: 0 Status: OK