Package: scTreeViz Version: 1.15.0 Command: /Library/Frameworks/R.framework/Resources/bin/R CMD build --keep-empty-dirs --no-resave-data scTreeViz StartedAt: 2025-10-24 18:43:46 -0400 (Fri, 24 Oct 2025) EndedAt: 2025-10-24 18:46:27 -0400 (Fri, 24 Oct 2025) EllapsedTime: 160.5 seconds RetCode: 0 Status: OK PackageFile: scTreeViz_1.15.0.tar.gz PackageFileSize: 2.299 MiB