Package: scTreeViz Version: 1.15.0 Command: /Library/Frameworks/R.framework/Resources/bin/R CMD INSTALL scTreeViz StartedAt: 2025-10-24 15:32:40 -0400 (Fri, 24 Oct 2025) EndedAt: 2025-10-24 15:33:15 -0400 (Fri, 24 Oct 2025) EllapsedTime: 35.1 seconds RetCode: 0 Status: OK