Package: scTreeViz Version: 1.15.0 Command: rm -rf scTreeViz.buildbin-libdir && mkdir scTreeViz.buildbin-libdir && /Users/biocbuild/BBS/utils/build-universal.sh scTreeViz_1.15.0.tar.gz /Library/Frameworks/R.framework/Resources/bin/R scTreeViz.buildbin-libdir StartedAt: 2025-10-24 23:19:17 -0400 (Fri, 24 Oct 2025) EndedAt: 2025-10-24 23:19:47 -0400 (Fri, 24 Oct 2025) EllapsedTime: 29.5 seconds RetCode: 0 Status: OK PackageFile: scTreeViz_1.15.0.tgz PackageFileSize: 2.625 MiB