Package: scTensor Version: 2.20.0 Command: /home/biocbuild/bbs-3.22-bioc/R/bin/R CMD check --install=check:scTensor.install-out.txt --library=/home/biocbuild/bbs-3.22-bioc/R/site-library --timings scTensor_2.20.0.tar.gz StartedAt: 2025-11-03 04:12:57 -0500 (Mon, 03 Nov 2025) EndedAt: 2025-11-03 04:20:21 -0500 (Mon, 03 Nov 2025) EllapsedTime: 444.4 seconds RetCode: 0 Status: WARNINGS CheckDir: scTensor.Rcheck Warnings: 1