Package: scTensor Version: 2.20.0 Command: /Library/Frameworks/R.framework/Resources/bin/R CMD INSTALL scTensor StartedAt: 2025-10-31 15:49:47 -0400 (Fri, 31 Oct 2025) EndedAt: 2025-10-31 15:51:06 -0400 (Fri, 31 Oct 2025) EllapsedTime: 79.0 seconds RetCode: 0 Status: OK