Package: scTensor Version: 2.19.2 Command: /Library/Frameworks/R.framework/Resources/bin/R CMD build --keep-empty-dirs --no-resave-data scTensor StartedAt: 2025-10-24 17:42:06 -0400 (Fri, 24 Oct 2025) EndedAt: 2025-10-24 17:43:02 -0400 (Fri, 24 Oct 2025) EllapsedTime: 56.6 seconds RetCode: 0 Status: OK PackageFile: scTensor_2.19.2.tar.gz PackageFileSize: 10.49 MiB