Package: scTensor Version: 2.20.0 Maintainer: Koki Tsuyuzaki MaintainerEmail: k.t.the-answer at hotmail.co.jp git_url: https://git.bioconductor.org/packages/scTensor git_branch: RELEASE_3_22 git_last_commit: 11f50bb git_last_commit_date: 2025-10-29 10:49:00 -0500 (Wed, 29 Oct 2025)