Package: scTHI Version: 1.21.0 Command: /home/biocbuild/bbs-3.22-bioc/R/bin/R CMD INSTALL scTHI StartedAt: 2025-10-27 15:06:43 -0400 (Mon, 27 Oct 2025) EndedAt: 2025-10-27 15:07:10 -0400 (Mon, 27 Oct 2025) EllapsedTime: 27.7 seconds RetCode: 0 Status: OK