Package: scTHI Version: 1.21.0 Command: /home/biocbuild/bbs-3.22-bioc/R/bin/R CMD build --keep-empty-dirs --no-resave-data --md5 scTHI StartedAt: 2025-10-27 19:59:34 -0400 (Mon, 27 Oct 2025) EndedAt: 2025-10-27 20:00:34 -0400 (Mon, 27 Oct 2025) EllapsedTime: 60.0 seconds RetCode: 0 Status: OK PackageFile: scTHI_1.21.0.tar.gz PackageFileSize: 713.3 KiB