Package: scShapes Version: 1.15.0 Command: /home/biocbuild/bbs-3.22-bioc/R/bin/R CMD INSTALL scShapes StartedAt: 2025-10-24 15:15:55 -0400 (Fri, 24 Oct 2025) EndedAt: 2025-10-24 15:16:02 -0400 (Fri, 24 Oct 2025) EllapsedTime: 6.9 seconds RetCode: 0 Status: OK