Package: scShapes Version: 1.15.0 Command: /home/biocbuild/bbs-3.22-bioc/R/bin/R CMD build --keep-empty-dirs --no-resave-data --md5 scShapes StartedAt: 2025-10-24 20:07:05 -0400 (Fri, 24 Oct 2025) EndedAt: 2025-10-24 20:08:25 -0400 (Fri, 24 Oct 2025) EllapsedTime: 80.1 seconds RetCode: 0 Status: OK PackageFile: scShapes_1.15.0.tar.gz PackageFileSize: 31.31 KiB