Package: scShapes Version: 1.16.0 Command: /Library/Frameworks/R.framework/Resources/bin/R CMD INSTALL scShapes StartedAt: 2025-10-30 15:06:46 -0400 (Thu, 30 Oct 2025) EndedAt: 2025-10-30 15:07:16 -0400 (Thu, 30 Oct 2025) EllapsedTime: 30.4 seconds RetCode: 0 Status: OK