Package: scShapes Version: 1.16.0 Command: /Library/Frameworks/R.framework/Resources/bin/R CMD build --keep-empty-dirs --no-resave-data scShapes StartedAt: 2025-10-30 18:35:22 -0400 (Thu, 30 Oct 2025) EndedAt: 2025-10-30 18:37:11 -0400 (Thu, 30 Oct 2025) EllapsedTime: 108.4 seconds RetCode: 0 Status: OK PackageFile: scShapes_1.16.0.tar.gz PackageFileSize: 29.91 KiB