Package: scShapes Version: 1.16.0 Command: rm -rf scShapes.buildbin-libdir && mkdir scShapes.buildbin-libdir && /Users/biocbuild/BBS/utils/build-universal.sh scShapes_1.16.0.tar.gz /Library/Frameworks/R.framework/Resources/bin/R scShapes.buildbin-libdir StartedAt: 2025-10-31 01:47:24 -0400 (Fri, 31 Oct 2025) EndedAt: 2025-10-31 01:47:37 -0400 (Fri, 31 Oct 2025) EllapsedTime: 12.7 seconds RetCode: 0 Status: OK PackageFile: scShapes_1.16.0.tgz PackageFileSize: 72.2 KiB