Package: scShapes Version: 1.15.0 Command: /Library/Frameworks/R.framework/Resources/bin/R CMD build --keep-empty-dirs --no-resave-data scShapes StartedAt: 2025-10-24 17:42:01 -0400 (Fri, 24 Oct 2025) EndedAt: 2025-10-24 17:42:44 -0400 (Fri, 24 Oct 2025) EllapsedTime: 43.5 seconds RetCode: 0 Status: OK PackageFile: scShapes_1.15.0.tar.gz PackageFileSize: 29.82 KiB