Package: scRepertoire Version: 2.5.8 Command: /home/biocbuild/bbs-3.22-bioc/R/bin/R CMD build --keep-empty-dirs --no-resave-data --md5 scRepertoire StartedAt: 2025-10-24 20:06:20 -0400 (Fri, 24 Oct 2025) EndedAt: 2025-10-24 20:10:51 -0400 (Fri, 24 Oct 2025) EllapsedTime: 271.2 seconds RetCode: 0 Status: OK PackageFile: scRepertoire_2.5.8.tar.gz PackageFileSize: 8.146 MiB