Package: scRecover Version: 1.26.0 Command: /Library/Frameworks/R.framework/Resources/bin/R CMD INSTALL scRecover StartedAt: 2025-11-03 15:13:16 -0500 (Mon, 03 Nov 2025) EndedAt: 2025-11-03 15:14:27 -0500 (Mon, 03 Nov 2025) EllapsedTime: 71.3 seconds RetCode: 0 Status: OK