Package: scRecover Version: 1.26.0 Command: /Library/Frameworks/R.framework/Resources/bin/R CMD build --keep-empty-dirs --no-resave-data scRecover StartedAt: 2025-11-03 18:42:29 -0500 (Mon, 03 Nov 2025) EndedAt: 2025-11-03 18:44:29 -0500 (Mon, 03 Nov 2025) EllapsedTime: 120.0 seconds RetCode: 0 Status: OK PackageFile: scRecover_1.26.0.tar.gz PackageFileSize: 1.712 MiB