Package: scRecover Version: 1.26.0 Command: rm -rf scRecover.buildbin-libdir && mkdir scRecover.buildbin-libdir && /Users/biocbuild/BBS/utils/build-universal.sh scRecover_1.26.0.tar.gz /Library/Frameworks/R.framework/Resources/bin/R scRecover.buildbin-libdir StartedAt: 2025-11-04 02:03:19 -0500 (Tue, 04 Nov 2025) EndedAt: 2025-11-04 02:03:36 -0500 (Tue, 04 Nov 2025) EllapsedTime: 16.2 seconds RetCode: 0 Status: OK PackageFile: scRecover_1.26.0.tgz PackageFileSize: 1.167 MiB