Package: scReClassify Version: 1.15.1 Command: /home/biocbuild/R/R/bin/R CMD INSTALL scReClassify StartedAt: 2025-10-23 21:25:54 -0000 (Thu, 23 Oct 2025) EndedAt: 2025-10-23 21:26:22 -0000 (Thu, 23 Oct 2025) EllapsedTime: 28.3 seconds RetCode: 0 Status: OK