Package: scReClassify Version: 1.15.1 Command: /home/biocbuild/R/R/bin/R CMD build --keep-empty-dirs --no-resave-data scReClassify StartedAt: 2025-10-21 02:59:24 -0000 (Tue, 21 Oct 2025) EndedAt: 2025-10-21 03:02:43 -0000 (Tue, 21 Oct 2025) EllapsedTime: 199.1 seconds RetCode: 0 Status: OK PackageFile: scReClassify_1.15.1.tar.gz PackageFileSize: 2.482 MiB