Package: scReClassify Version: 1.15.1 Command: /home/biocbuild/bbs-3.22-bioc/R/bin/R CMD INSTALL scReClassify StartedAt: 2025-10-24 16:11:37 -0400 (Fri, 24 Oct 2025) EndedAt: 2025-10-24 16:11:58 -0400 (Fri, 24 Oct 2025) EllapsedTime: 21.3 seconds RetCode: 0 Status: OK