Package: scReClassify Version: 1.15.1 Maintainer: Taiyun Kim MaintainerEmail: taiyun.kim91 at gmail.com git_url: https://git.bioconductor.org/packages/scReClassify git_branch: devel git_last_commit: 09f3c31 git_last_commit_date: 2025-10-14 14:59:18 -0400 (Tue, 14 Oct 2025)