Package: scRNAseqApp Version: 1.9.26 Command: /home/biocbuild/R/R/bin/R CMD INSTALL scRNAseqApp StartedAt: 2025-10-23 20:47:46 -0000 (Thu, 23 Oct 2025) EndedAt: 2025-10-23 20:49:13 -0000 (Thu, 23 Oct 2025) EllapsedTime: 86.8 seconds RetCode: 0 Status: OK