Package: scRNAseqApp Version: 1.9.26 Command: /home/biocbuild/R/R/bin/R CMD build --keep-empty-dirs --no-resave-data scRNAseqApp StartedAt: 2025-10-21 03:00:55 -0000 (Tue, 21 Oct 2025) EndedAt: 2025-10-21 03:02:55 -0000 (Tue, 21 Oct 2025) EllapsedTime: 120.0 seconds RetCode: 0 Status: OK PackageFile: scRNAseqApp_1.9.26.tar.gz PackageFileSize: 2.279 MiB