Package: scRNAseqApp Version: 1.9.26 Command: /home/biocbuild/bbs-3.22-bioc/R/bin/R CMD INSTALL scRNAseqApp StartedAt: 2025-10-24 15:37:13 -0400 (Fri, 24 Oct 2025) EndedAt: 2025-10-24 15:38:18 -0400 (Fri, 24 Oct 2025) EllapsedTime: 65.9 seconds RetCode: 0 Status: OK