Package: scRNAseqApp Version: 1.9.26 Command: /home/biocbuild/bbs-3.22-bioc/R/bin/R CMD check --install=check:scRNAseqApp.install-out.txt --library=/home/biocbuild/bbs-3.22-bioc/R/site-library --timings scRNAseqApp_1.9.26.tar.gz StartedAt: 2025-10-25 03:58:00 -0400 (Sat, 25 Oct 2025) EndedAt: 2025-10-25 04:05:00 -0400 (Sat, 25 Oct 2025) EllapsedTime: 420.3 seconds RetCode: 0 Status: OK CheckDir: scRNAseqApp.Rcheck Warnings: 0