Package: scRNAseqApp Version: 1.9.26 Command: /Library/Frameworks/R.framework/Resources/bin/R CMD INSTALL scRNAseqApp StartedAt: 2025-10-24 15:34:29 -0400 (Fri, 24 Oct 2025) EndedAt: 2025-10-24 15:35:57 -0400 (Fri, 24 Oct 2025) EllapsedTime: 88.4 seconds RetCode: 0 Status: OK