Package: scQTLtools Version: 1.1.7 Command: /home/biocbuild/bbs-3.22-bioc/R/bin/R CMD INSTALL scQTLtools StartedAt: 2025-10-24 16:07:48 -0400 (Fri, 24 Oct 2025) EndedAt: 2025-10-24 16:08:28 -0400 (Fri, 24 Oct 2025) EllapsedTime: 40.7 seconds RetCode: 0 Status: OK