Package: scQTLtools Version: 1.2.0 Command: /Library/Frameworks/R.framework/Resources/bin/R CMD build --keep-empty-dirs --no-resave-data scQTLtools StartedAt: 2025-11-02 18:44:05 -0500 (Sun, 02 Nov 2025) EndedAt: 2025-11-02 18:46:04 -0500 (Sun, 02 Nov 2025) EllapsedTime: 119.2 seconds RetCode: 0 Status: OK PackageFile: scQTLtools_1.2.0.tar.gz PackageFileSize: 4.269 MiB