Package: scQTLtools Version: 1.1.7 Command: /Library/Frameworks/R.framework/Resources/bin/R CMD INSTALL scQTLtools StartedAt: 2025-10-24 15:31:23 -0400 (Fri, 24 Oct 2025) EndedAt: 2025-10-24 15:31:40 -0400 (Fri, 24 Oct 2025) EllapsedTime: 16.8 seconds RetCode: 0 Status: OK