Package: scQTLtools Version: 1.1.7 Command: /Library/Frameworks/R.framework/Resources/bin/R CMD build --keep-empty-dirs --no-resave-data scQTLtools StartedAt: 2025-10-24 17:40:42 -0400 (Fri, 24 Oct 2025) EndedAt: 2025-10-24 17:41:21 -0400 (Fri, 24 Oct 2025) EllapsedTime: 39.4 seconds RetCode: 0 Status: OK PackageFile: scQTLtools_1.1.7.tar.gz PackageFileSize: 4.268 MiB