Package: scQTLtools Version: 1.1.7 Command: rm -rf scQTLtools.buildbin-libdir && mkdir scQTLtools.buildbin-libdir && /Users/biocbuild/BBS/utils/build-universal.sh scQTLtools_1.1.7.tar.gz /Library/Frameworks/R.framework/Resources/bin/R scQTLtools.buildbin-libdir StartedAt: 2025-10-24 23:19:03 -0400 (Fri, 24 Oct 2025) EndedAt: 2025-10-24 23:19:21 -0400 (Fri, 24 Oct 2025) EllapsedTime: 18.4 seconds RetCode: 0 Status: OK PackageFile: scQTLtools_1.1.7.tgz PackageFileSize: 3.304 MiB